BEGIN:VCALENDAR
VERSION:2.0
PRODID:-//Alessia Canducci - ECPv6.8.0//NONSGML v1.0//EN
CALSCALE:GREGORIAN
METHOD:PUBLISH
X-WR-CALNAME:Alessia Canducci
X-ORIGINAL-URL:https://www.alessiacanducci.it
X-WR-CALDESC:Eventi per Alessia Canducci
REFRESH-INTERVAL;VALUE=DURATION:PT1H
X-Robots-Tag:noindex
X-PUBLISHED-TTL:PT1H
BEGIN:VTIMEZONE
TZID:Europe/Paris
BEGIN:DAYLIGHT
TZOFFSETFROM:+0100
TZOFFSETTO:+0200
TZNAME:CEST
DTSTART:20260329T010000
END:DAYLIGHT
BEGIN:STANDARD
TZOFFSETFROM:+0200
TZOFFSETTO:+0100
TZNAME:CET
DTSTART:20261025T010000
END:STANDARD
END:VTIMEZONE
BEGIN:VEVENT
DTSTART;TZID=Europe/Paris:20260419T170000
DTEND;TZID=Europe/Paris:20260419T180000
DTSTAMP:20260421T102339
CREATED:20260415T081305Z
LAST-MODIFIED:20260415T081305Z
UID:10000065-1776618000-1776621600@www.alessiacanducci.it
SUMMARY:UN'OASI DI STORIE
DESCRIPTION:Racconti a voce di fiabe popolari\, Silent Books e Albi illustrati per perderci insieme in luoghi remoti e fantastici\,  attraverso parole che suonano e illustrazioni che aprono alla meraviglia e alla curiosità.\n\n attività libere e gratuita\nè gradita la prenotazione presso:  centro culturale Medolla 053 5538 50 / 334 50 90 104 Biblioteca@comune.medolla.mo.it
URL:https://www.alessiacanducci.it/evento/unoasi-di-storie/
LOCATION:Oasi San Matteo\, via Rubadello\, 9\, Medolla\, Italy
ATTACH;FMTTYPE=image/jpeg:https://www.alessiacanducci.it/wp-content/uploads/2026/04/Minifestival-ok-totale.jpg
END:VEVENT
END:VCALENDAR