BEGIN:VCALENDAR
VERSION:2.0
PRODID:-//Alessia Canducci - ECPv6.8.0//NONSGML v1.0//EN
CALSCALE:GREGORIAN
METHOD:PUBLISH
X-WR-CALNAME:Alessia Canducci
X-ORIGINAL-URL:https://www.alessiacanducci.it
X-WR-CALDESC:Eventi per Alessia Canducci
REFRESH-INTERVAL;VALUE=DURATION:PT1H
X-Robots-Tag:noindex
X-PUBLISHED-TTL:PT1H
BEGIN:VTIMEZONE
TZID:Europe/Paris
BEGIN:DAYLIGHT
TZOFFSETFROM:+0100
TZOFFSETTO:+0200
TZNAME:CEST
DTSTART:20250330T010000
END:DAYLIGHT
BEGIN:STANDARD
TZOFFSETFROM:+0200
TZOFFSETTO:+0100
TZNAME:CET
DTSTART:20251026T010000
END:STANDARD
BEGIN:DAYLIGHT
TZOFFSETFROM:+0100
TZOFFSETTO:+0200
TZNAME:CEST
DTSTART:20260329T010000
END:DAYLIGHT
BEGIN:STANDARD
TZOFFSETFROM:+0200
TZOFFSETTO:+0100
TZNAME:CET
DTSTART:20261025T010000
END:STANDARD
END:VTIMEZONE
BEGIN:VEVENT
DTSTART;TZID=Europe/Paris:20260422T100000
DTEND;TZID=Europe/Paris:20260422T110000
DTSTAMP:20260423T000856
CREATED:20260420T062829Z
LAST-MODIFIED:20260420T070211Z
UID:10000066-1776852000-1776855600@www.alessiacanducci.it
SUMMARY:STARDUST Polvere di stelle
DESCRIPTION:ore 10.00\nTeatro Granturismo Riccione.\nLo spettacolo  affronta la crisi climatica portandoci in un viaggio attraverso il passato\, il presente e il futuro della Terra. Attraverso la sinergia di voce\, musica ed immagini\, lo spettacolo pone domande filosofiche e scientifiche urgenti; ci porta a ‘sentire’ la connessione con la natura e l’umano\, e nutrire speranza. Lo spettacolo è tratto dall’omonimo libro d’artista di Hannah Arnesen\, pubblicato da Orecchio Acerbo.\nDa 12 anni e adulti \ndi e con Alessia Canducci \nmusiche dal vivo di Federico Squassabia \nediting video Giovanni Vincenti \nUna produzione Mare di Libri – festival dei ragazzi che leggono \n 
URL:https://www.alessiacanducci.it/evento/stardust-polvere-di-stelle-spettacolo-su-cambiamento-climatico/
LOCATION:teatro Granturismo\, Riccione
ATTACH;FMTTYPE=image/webp:https://www.alessiacanducci.it/wp-content/uploads/2025/03/STARDUST-IL-MOSAICO-ORECCHIO-ACERBO-OK-a7f79dcf.webp
END:VEVENT
BEGIN:VEVENT
DTSTART;TZID=Europe/Paris:20260419T170000
DTEND;TZID=Europe/Paris:20260419T180000
DTSTAMP:20260423T000856
CREATED:20260415T081305Z
LAST-MODIFIED:20260415T081305Z
UID:10000065-1776618000-1776621600@www.alessiacanducci.it
SUMMARY:UN'OASI DI STORIE
DESCRIPTION:Racconti a voce di fiabe popolari\, Silent Books e Albi illustrati per perderci insieme in luoghi remoti e fantastici\,  attraverso parole che suonano e illustrazioni che aprono alla meraviglia e alla curiosità.\n\n attività libere e gratuita\nè gradita la prenotazione presso:  centro culturale Medolla 053 5538 50 / 334 50 90 104 Biblioteca@comune.medolla.mo.it
URL:https://www.alessiacanducci.it/evento/unoasi-di-storie/
LOCATION:Oasi San Matteo\, via Rubadello\, 9\, Medolla\, Italy
ATTACH;FMTTYPE=image/jpeg:https://www.alessiacanducci.it/wp-content/uploads/2026/04/Minifestival-ok-totale.jpg
END:VEVENT
BEGIN:VEVENT
DTSTART;TZID=Europe/Paris:20260315T080000
DTEND;TZID=Europe/Paris:20260315T170000
DTSTAMP:20260423T000856
CREATED:20260211T130758Z
LAST-MODIFIED:20260211T130758Z
UID:10000062-1773561600-1773594000@www.alessiacanducci.it
SUMMARY:TRUNKERUMPAMPUMPERA
DESCRIPTION:DOMENICA 15 MARZO 2026\nORE 17.00 \nTEATRO RISTORI \nIl sogno condiviso di una meta è tale solo se tutti hanno la possibilità di arrivare…\nTrunkerumpampumpera racconta\, in una lingua inventata\, il viaggio di cinque gatti: Frimiao\, Rumao\, Harmumamao\, Cinkomao e Auallamiao. Tutti camminano per raggiungere una meta speciale. \nQuesto racconto\, creato con soli suoni\, apre l’ascolto attraverso melodie di diverse nazioni. Il pubblico è coinvolto nel raccontare\, cantare\, ballare un viaggio interculturale fatto di collaborazione\, litigate e riappacificazioni.\nIl grande valore aggiunto è costituito dalla presenza sul palco di un insieme musicale che incarna tutta una comunità educante\, chiamata a divulgare l’importanza della musica dal vivo.
URL:https://www.alessiacanducci.it/evento/trunkerumpampumpera/
LOCATION:Teatro Ristori\, Via Teatro Ristori 7\, Verona\, Italia\, 37122
ATTACH;FMTTYPE=application/pdf:https://www.alessiacanducci.it/wp-content/uploads/2026/02/04-Famiglie_TRUNKERUMPAMPUMPERA_50x70cm_v1_2.pdf
END:VEVENT
BEGIN:VEVENT
DTSTART;TZID=Europe/Paris:20260221T090000
DTEND;TZID=Europe/Paris:20260221T183000
DTSTAMP:20260423T000856
CREATED:20260128T173237Z
LAST-MODIFIED:20260128T173237Z
UID:10000061-1771664400-1771698600@www.alessiacanducci.it
SUMMARY:LA VOCE E IL CORPO NEGLI ALBI ILLUSTRATI
DESCRIPTION:SOLO SU PRENOTAZIONE \nSABATO 21 FEBBRAIO 2026 \n9-12.30 / 14.30-18.30 \nCIVICA BIBLIOTECA GLEMONENSE \nvia dei Conti\, 9 Gemona del Friuli UD \ninfo e prenotazioni: 0432 980495 \nbiblioteca@comune.gemona.ud.it \nAlessia Canducci\, Attrice e formatrice accreditata “Nati per Leggere” ci aiuta ad approfondire le modalità di lettura degli albi illustrati. \nQuando leggiamo ad alta voce un albo illustrato è necessario comprendere la sinergia tra gli elementi che compongono la sua interezza: immagini\, parole\, grafica\, formato. Solo allora possiamo dedicarci al come leggerlo\, mettendo al suo servizio voce\, sguardo\, gesto e mantenendo la relazione con chi ci ascolta e guarda.
URL:https://www.alessiacanducci.it/evento/la-voce-e-il-corpo-negli-albi-illustrati/
LOCATION:CIVICA BIBLIOTECA GLEMONENSE\, VIA DEI CONTI\, 9\, GEMONA DEL FRIULI\, Italy
ATTACH;FMTTYPE=image/jpeg:https://www.alessiacanducci.it/wp-content/uploads/2026/01/PHOTO-2026-01-27-19-23-46.jpg
END:VEVENT
BEGIN:VEVENT
DTSTART;TZID=Europe/Paris:20260124T160000
DTEND;TZID=Europe/Paris:20260124T173000
DTSTAMP:20260423T000856
CREATED:20260119T114844Z
LAST-MODIFIED:20260119T114844Z
UID:10000060-1769270400-1769275800@www.alessiacanducci.it
SUMMARY:LUPO CATTIVO CERCASI!
DESCRIPTION:REGGIOLO Biblioteca\, ore 16:00 \nper bambini 3-7 anni \nper BiblioWeek 2026
URL:https://www.alessiacanducci.it/evento/lupo-cattivo-cercasi-2/
LOCATION:Biblioteca Reggiolo\, piazza Martiri 1-2-3\, Reggiolo\, Italy
ATTACH;FMTTYPE=image/png:https://www.alessiacanducci.it/wp-content/uploads/2026/01/biblioweek-2026-Canducci.png
END:VEVENT
BEGIN:VEVENT
DTSTART;TZID=Europe/Paris:20251130T170000
DTEND;TZID=Europe/Paris:20251130T180000
DTSTAMP:20260423T000856
CREATED:20251116T185127Z
LAST-MODIFIED:20251116T185127Z
UID:10000059-1764522000-1764525600@www.alessiacanducci.it
SUMMARY:LIBERE VOCI
DESCRIPTION:READING \na cura di \nSilvia Bottani\, Alessia Canducci\, Lorenza Ghinelli \nBiblioteca Sala Cineteca \nBIBLIOTERAPIA 2025 Come curarsi (o ammalarsi) coi libri\, XV \n 
URL:https://www.alessiacanducci.it/evento/libere-voci/
LOCATION:Biblioteca – Cineteca\, via Gambalunga\, Rimini\, Italy
ATTACH;FMTTYPE=image/jpeg:https://www.alessiacanducci.it/wp-content/uploads/2025/11/IMG_9256.jpg
END:VEVENT
BEGIN:VEVENT
DTSTART;TZID=Europe/Paris:20251129T100000
DTEND;TZID=Europe/Paris:20251129T180000
DTSTAMP:20260423T000856
CREATED:20251116T181705Z
LAST-MODIFIED:20251116T181705Z
UID:10000058-1764410400-1764439200@www.alessiacanducci.it
SUMMARY:STORIE IN ALTALENA (H. 10.00) e STORIE A ZIG ZAG ( H. 16.30)
DESCRIPTION:ore 10.00 SOLIERA Biblioteca Junior \nRime e storie in altalena\nNarrazioni con Alessia Canducci \nper bambini 3-6 anni\, 2 turni \n  \nore 16.30 ROVERETO Sala Civica De André Via G. Mazzini\, 9 \nStorie a zig zag\nNarrazioni con Alessia Canducci \nper bambini 3-6 anni \n 
URL:https://www.alessiacanducci.it/evento/storie-in-altalena-h-10-00-e-storie-a-zig-zag-h-16-30/
ATTACH;FMTTYPE=application/pdf:https://www.alessiacanducci.it/wp-content/uploads/2025/11/NATI-X-LEGGERE-25-Loc-2.pdf
END:VEVENT
BEGIN:VEVENT
DTSTART;TZID=Europe/Paris:20251123T170000
DTEND;TZID=Europe/Paris:20251123T170000
DTSTAMP:20260423T000856
CREATED:20251116T164845Z
LAST-MODIFIED:20251116T164845Z
UID:10000053-1763917200-1763917200@www.alessiacanducci.it
SUMMARY:IL SENTIERO DELLE FIABE
DESCRIPTION:PALAZZO GRADARI\, Salone Pallerini Ore 17.00\nlI sentiero delle fiabe\nCè’ una casa in fondo al sentiero? Chi la abita? Voci e musiche per perderci\, spaventarci\, divertirci e ritrovarci insieme alle fiabe popolari co Alessia Canducci e Tiziano Paganelli \na cura della\nFONDAZIONE WANDA DI FERDINANDO\nINGRESSO SU PRENOTAZIONE
URL:https://www.alessiacanducci.it/evento/il-sentiero-delle-fiabe/
LOCATION:Palazzo Gradari\, Via Gioacchino Rossini\, 26\, 61121 Pesaro PU\, Pesaro\, Italy
ATTACH;FMTTYPE=application/pdf:https://www.alessiacanducci.it/wp-content/uploads/2025/11/Locandina_A3_Settimana_SONO-QUI_Novembre_2025.pdf
END:VEVENT
BEGIN:VEVENT
DTSTART;TZID=Europe/Paris:20251122T170000
DTEND;TZID=Europe/Paris:20251122T170000
DTSTAMP:20260423T000856
CREATED:20251116T173129Z
LAST-MODIFIED:20251116T173129Z
UID:10000056-1763830800-1763830800@www.alessiacanducci.it
SUMMARY:STARDUST - LO SPETTACOLO
DESCRIPTION:Il cambiamento climatico raccontato da Alessia Canducci \nmusiche di Federico Squassabia \nEditing Video Giovanni Vincenti \ntratto dall’omonimo libro d’artista di Hannah Arnesen\, Orecchio Acerbo editore \n22 NOVEMBRE 2025 \nore 17.00
URL:https://www.alessiacanducci.it/evento/stardust-lo-spettacolo-2/
LOCATION:Teatro d’Antona\, Via G. La Pira 54\, 40013\, Castel Maggiore
ATTACH;FMTTYPE=image/jpeg:https://www.alessiacanducci.it/wp-content/uploads/2025/11/IMG_9254.jpg
END:VEVENT
BEGIN:VEVENT
DTSTART;TZID=Europe/Paris:20251122T100000
DTEND;TZID=Europe/Paris:20251122T120000
DTSTAMP:20260423T000856
CREATED:20251116T171155Z
LAST-MODIFIED:20251116T171155Z
UID:10000055-1763805600-1763812800@www.alessiacanducci.it
SUMMARY:RIME E STORIE IN ALTALENA
DESCRIPTION:Narrazioni per bambini 2-5 anni \ndue turni \n 
URL:https://www.alessiacanducci.it/evento/rime-e-storie-in-altalena-2/
LOCATION:Biblioteca Berselli\, via Rubiera 1\, Campogalliano\, Italy
ATTACH;FMTTYPE=application/pdf:https://www.alessiacanducci.it/wp-content/uploads/2025/11/NATI-X-LEGGERE-25-Loc-1.pdf
END:VEVENT
BEGIN:VEVENT
DTSTART;TZID=Europe/Paris:20251121T163000
DTEND;TZID=Europe/Paris:20251121T183000
DTSTAMP:20260423T000856
CREATED:20251116T170149Z
LAST-MODIFIED:20251116T170149Z
UID:10000054-1763742600-1763749800@www.alessiacanducci.it
SUMMARY:RIME E STORIE IN ALTALENA
DESCRIPTION:Narrazioni per bambini 24-36 mesi \ndue turni \n 
URL:https://www.alessiacanducci.it/evento/rime-e-storie-in-altalena/
LOCATION:BIblioteca Il Falco Magico\, piazza martiri\, Carpi\, Italy
ATTACH;FMTTYPE=application/pdf:https://www.alessiacanducci.it/wp-content/uploads/2025/11/NATI-X-LEGGERE-25-Loc.pdf
END:VEVENT
BEGIN:VEVENT
DTSTART;TZID=Europe/Paris:20251120T170000
DTEND;TZID=Europe/Paris:20251120T180000
DTSTAMP:20260423T000856
CREATED:20251116T175356Z
LAST-MODIFIED:20251116T175356Z
UID:10000057-1763658000-1763661600@www.alessiacanducci.it
SUMMARY:NONNI\, A TAVOLA!
DESCRIPTION:NONNI\, A TAVOLA! \nAlessia Canducci legge storie saporite e fiabe tutte da gustare\, in un pomeriggio di lettura aperto a tutte e tutti! \nGiovedì 20 novembre  ORE 17.00 \npresso Dipartimento di Scienze per la Qualità della Vita Unibo \nAula Briolini 1 – Corso d’Augusto\, 237 – Rimini \nEvento conclusivo della \nMiniFotoMaratona “A tavola coi nonni” \na cura dell’associazione ARE ERE IRE\, CIBO PER GIOVANI MENTI \nun’occasione speciale per visitare la mostra che raccoglie gli scatti più belli dei piccoli fotografi\, \ncapaci di raccontare con fantasia e semplicità la magia della tavola condivisa. \nEvento gratuito\, ingresso libero!
URL:https://www.alessiacanducci.it/evento/nonni-a-tavola/
LOCATION:Dipartimento di Scienze per la Qualità della Vita Unibo\, Corso d'Augusto\, 237\, Rimini\, Italy
ATTACH;FMTTYPE=image/jpeg:https://www.alessiacanducci.it/wp-content/uploads/2025/11/IMG_9204.jpg
END:VEVENT
BEGIN:VEVENT
DTSTART;TZID=Europe/Paris:20251114T170000
DTEND;TZID=Europe/Paris:20251115T130000
DTSTAMP:20260423T000856
CREATED:20251023T111511Z
LAST-MODIFIED:20251023T112043Z
UID:10000051-1763139600-1763211600@www.alessiacanducci.it
SUMMARY:QUALI VOCI PER QUALI LIBRI? Sarabanda di Storie + Formazione
DESCRIPTION:14 novembre Letture a cura di Alessia Canducci \nBIBLIOTECA DEI RAGAZZI \ndestinate a famiglie e bambini da 3 a 6 anni. \nore 17.00 – 18.00 \nFOLIGNO \nPRENOTAZIONI: 0742.330610 \n  \n15 novembre Formazione
URL:https://www.alessiacanducci.it/evento/quali-voci-per-quali-libri-sarabanda-di-storie-formazione/
ATTACH;FMTTYPE=image/jpeg:https://www.alessiacanducci.it/wp-content/uploads/2025/10/PHOTO-2025-10-16-19-45-24.jpg
END:VEVENT
BEGIN:VEVENT
DTSTART;TZID=Europe/Paris:20251109T170000
DTEND;TZID=Europe/Paris:20251109T180000
DTSTAMP:20260423T000856
CREATED:20251023T112814Z
LAST-MODIFIED:20251024T062152Z
UID:10000052-1762707600-1762711200@www.alessiacanducci.it
SUMMARY:ADOLESCENZA: ISTRUZIONI PER L'USO?
DESCRIPTION:Domenica 9 NOVEMBRE \nORE 17 \nTeatro Sociale di Novafeltria \nSpettacolo per famiglie ADOLESCENZA: ISTRUZIONI PER L’USO? \ndi e con Alessia Canducci Alfonso Cuccurullo \nmusiche di Federico Squassabia \nproduzione Mare di Libri \nIngresso libero (fino esaurimento posti).
URL:https://www.alessiacanducci.it/evento/adolescenza-istruzioni-per-luso-2/
ATTACH;FMTTYPE=image/jpeg:https://www.alessiacanducci.it/wp-content/uploads/2025/10/IMG_8784.jpg
END:VEVENT
BEGIN:VEVENT
DTSTART;TZID=Europe/Paris:20251107T153000
DTEND;TZID=Europe/Paris:20251108T170000
DTSTAMP:20260423T000856
CREATED:20251023T105634Z
LAST-MODIFIED:20251023T105634Z
UID:10000050-1762529400-1762621200@www.alessiacanducci.it
SUMMARY:FORMAZIONE - La voce e il corpo negli albi illustrati
DESCRIPTION:Biblioteca Comunale Cini Osimo \n  \ncorso di formazione per approfondire le modalità di lettura degli albi illustrati e silent books
URL:https://www.alessiacanducci.it/evento/formazione-la-voce-e-il-corpo-negli-albi-illustrati/
LOCATION:Biblioteca Cini\, Osimo
ATTACH;FMTTYPE=image/jpeg:https://www.alessiacanducci.it/wp-content/uploads/2025/10/PHOTO-2025-10-09-16-47-52.jpg
END:VEVENT
BEGIN:VEVENT
DTSTART;TZID=Europe/Paris:20251101T160000
DTEND;TZID=Europe/Paris:20251101T170000
DTSTAMP:20260423T000856
CREATED:20251023T103930Z
LAST-MODIFIED:20251023T110036Z
UID:10000049-1762012800-1762016400@www.alessiacanducci.it
SUMMARY:IL MERAVIGLIOSO LIBRO DELLA MORTE
DESCRIPTION:Lettura musica e disegno con Alessia Canducci e Tiziano Paganelli \nin collaborazione con Mare di Libri \nprenotazione consigliata
URL:https://www.alessiacanducci.it/evento/il-meraviglioso-libro-della-morte/
LOCATION:cinema Fulgor- sala Federico\, corso d'augusto 162\, Rimini\, Italy
ATTACH;FMTTYPE=image/jpeg:https://www.alessiacanducci.it/wp-content/uploads/2025/10/IMG_8772.jpg
END:VEVENT
BEGIN:VEVENT
DTSTART;TZID=Europe/Paris:20251012T143000
DTEND;TZID=Europe/Paris:20251012T193000
DTSTAMP:20260423T000856
CREATED:20250930T083847Z
LAST-MODIFIED:20250930T083847Z
UID:10000048-1760279400-1760297400@www.alessiacanducci.it
SUMMARY:La Canducci e il Maestro Ramberti ad 'Artisti in casa'
DESCRIPTION:
URL:https://www.alessiacanducci.it/evento/la-canducci-e-il-maestro-ramberti-ad-artisti-in-casa/
LOCATION:Montegiardino RSM\, il borgo di Montegiardino\, Montegiardino\, San Marino
ATTACH;FMTTYPE=image/jpeg:https://www.alessiacanducci.it/wp-content/uploads/2025/09/IMG_8163.jpg
END:VEVENT
BEGIN:VEVENT
DTSTART;TZID=Europe/Paris:20251004T210000
DTEND;TZID=Europe/Paris:20251004T220000
DTSTAMP:20260423T000856
CREATED:20250930T083610Z
LAST-MODIFIED:20250930T083610Z
UID:10000047-1759611600-1759615200@www.alessiacanducci.it
SUMMARY:STARDUST - lo spettacolo
DESCRIPTION:Il cambiamento climatico raccontato da Alessia Canducci \nmusiche di Federico Squassabia \nEditing Video Giovanni Vincenti \ntratto dall’omonimo libro d’artista di Hannah Arnesen\, Orecchio Acerbo editore \n4 ottobre 2025 \nore 21.00 \n 
URL:https://www.alessiacanducci.it/evento/stardust-spettacolo-sul-cambiamento-climatico/
LOCATION:Sala Damiano Chiesa\, via per Brugnera\, 1\, Francenigo di Gaiarine TV\, Italy
ATTACH;FMTTYPE=image/jpeg:https://www.alessiacanducci.it/wp-content/uploads/2025/09/7c2e3a7d-c79e-467d-a15b-5b8e25f26831.jpg
END:VEVENT
BEGIN:VEVENT
DTSTART;TZID=Europe/Paris:20250927T180000
DTEND;TZID=Europe/Paris:20250927T190000
DTSTAMP:20260423T000856
CREATED:20250918T103442Z
LAST-MODIFIED:20250918T103442Z
UID:10000046-1758996000-1758999600@www.alessiacanducci.it
SUMMARY:STARDUST - Lo spettacolo
DESCRIPTION:Sabato 27 settembre \nore 18.00 \nMulini Asciutti \, Parco di Monza \n✨ Stardust: viaggio nel futuro del clima ✨ — un percorso tra arte\, scienza e immaginazione per riflettere insieme sulle sfide climatiche e costruire futuri possibili organizzato grazie al contributo di @fondazionemb e @fondazione_cariplo \nInaugurazione: 27 settembre\,  con lo spettacolo teatrale tratto dal libro\, con e regia di Alessia Canducci e musiche dal vivo del pianista Federico Squassabia organizzato all’interno del Festival del parco di Monza e allestimento di @f.o.h.srl\nIngresso gratuito \n 
URL:https://www.alessiacanducci.it/evento/stardust-lo-spettacolo/
LOCATION:Mulini asciutti\, Parco di Monza\, Monza\, Italy
ATTACH;FMTTYPE=image/jpeg:https://www.alessiacanducci.it/wp-content/uploads/2025/09/IMG_7892.jpg
END:VEVENT
BEGIN:VEVENT
DTSTART;TZID=Europe/Paris:20250923T163000
DTEND;TZID=Europe/Paris:20250923T173000
DTSTAMP:20260423T000856
CREATED:20250918T092758Z
LAST-MODIFIED:20250918T092758Z
UID:10000045-1758645000-1758648600@www.alessiacanducci.it
SUMMARY:LETTURE AL PARCO
DESCRIPTION:O \n⭐̀   \nLetture per bambini dai 3/6 anni \nRIO PARCO DI BUDRIO ⌚️16.30 
URL:https://www.alessiacanducci.it/evento/letture-al-parco/
LOCATION:Parco Rio Budrio\, Longiano\, Italy
ATTACH;FMTTYPE=image/jpeg:https://www.alessiacanducci.it/wp-content/uploads/2025/09/IMG_7901.jpg
END:VEVENT
BEGIN:VEVENT
DTSTART;TZID=Europe/Paris:20250921T173000
DTEND;TZID=Europe/Paris:20250921T173000
DTSTAMP:20260423T000856
CREATED:20250918T091746Z
LAST-MODIFIED:20250918T091746Z
UID:10000044-1758475800-1758475800@www.alessiacanducci.it
SUMMARY:IL CONFINE DEL BOSCO
DESCRIPTION:21 settembre 2025\, ore 17:30 \nCortile del Ninfeo del Castello dei ragazzi \nin occasione del @festivalfilo  \nIL CONFINE DEL BOSCO \nArtemide\, la bambina\, l’orsa \nNarrazione in musica  \ncon @alessiacanducci e Tiziano Paganelli \n La storia della bambina e dell’orsa arriva da un tempo lontano e da un luogo remoto: la Grecia del V secolo a.C. Da numerosi piccoli frammenti\, trovati grazie alle ricerche di archeologi\, si è scoperto che nell’antica Grecia anche le bambine potevano seguire un percorso educativo fuori dalle mura domestiche. I reperti ci raccontano di un luogo – il tempio di Artemide\, la dea dei boschi\, a Brauron – dove le bambine venivano accolte da delle sacerdotesse. Guidate da loro\, imparavano le arti\, la danza\, i rudimenti di scrittura e la musica. \ntratto dal libro La Bambina e l’orsa\, Cristiana Pezzetta\, Ill. Sylvie Bello\, pubblicato da Topipittori \nDa 8 anni\, su prenotazione al numero 059/649988
URL:https://www.alessiacanducci.it/evento/il-confine-del-bosco/
LOCATION:Cortile del Ninfeo- Il castello dei ragazzi\, piazza martiri\, Carpi\, Italy
ATTACH;FMTTYPE=image/jpeg:https://www.alessiacanducci.it/wp-content/uploads/2025/09/PH-MARGHERITA-CENNI-scaled.jpg
END:VEVENT
BEGIN:VEVENT
DTSTART;TZID=Europe/Paris:20250914T170000
DTEND;TZID=Europe/Paris:20250914T190000
DTSTAMP:20260423T000856
CREATED:20250912T162231Z
LAST-MODIFIED:20250912T162231Z
UID:10000043-1757869200-1757876400@www.alessiacanducci.it
SUMMARY:A PERDERSI\, A RITROVARSI
DESCRIPTION:Letture ad alta voce per tutti \na cura di Bim Casa Piani\, Alessia Canducci\, e dei lettori di Goal \nnell’ambito di Naturalmente Imola \n  \ndalle 17.00 \n 
URL:https://www.alessiacanducci.it/evento/a-perdersi-a-ritrovarsi-2/
LOCATION:Parco dell’Osservanza\, Imola\, Italy
ATTACH;FMTTYPE=image/jpeg:https://www.alessiacanducci.it/wp-content/uploads/2025/09/9496670A-2765-434F-9670-A7877E78D1C9.jpg
END:VEVENT
BEGIN:VEVENT
DTSTART;TZID=Europe/Paris:20250831T210000
DTEND;TZID=Europe/Paris:20250831T220000
DTSTAMP:20260423T000856
CREATED:20250824T144124Z
LAST-MODIFIED:20250824T144124Z
UID:10000042-1756674000-1756677600@www.alessiacanducci.it
SUMMARY:Stardust. Polvere di Stelle
DESCRIPTION:Domenica 31 Agosto 2025\nParco Solivaru Uta (CA) • ore 21.00 \n  \nRegia di /con Alessia Canducci\nMusiche eseguite dal vivo di Federico Squassabia\nEditing video Giovanni Vincenti \n  \nLo spettacolo mette in scena l’omonimo libro d’artista Stardust pubblicato da Orecchio acerbo nel 2024\, scritto ed illustrato da Hannah Arnesen. \nStardust è un libro che respira: fonde domande filosofiche ed esistenziali\, conoscenze scientifiche e poesia\, e ci immerge in immagini fortemente\nevocative; ritrae la crisi climatica portando il lettore in un viaggio attraverso il passato\, il presente e il futuro della Terra. \nStardust è uno spettacolo per aprire gli occhi sul cambiamento climatico\, capire le ragioni di The Last Generation\, ragionare con occhi\, cuore e intelligenza\, tornare a sentirsi parte di un tutto e scoprire un libro rivoluzionario. \n  \n(adulti e ragazzi/e dai 10 anni). \n  \nINGRESSO LIBERO
URL:https://www.alessiacanducci.it/evento/stardust-polvere-di-stelle-4/
LOCATION:Parco S’Olivaru\, Uta\, CA\, Italy
ATTACH;FMTTYPE=image/jpeg:https://www.alessiacanducci.it/wp-content/uploads/2025/08/74660e98-71ed-4677-bab8-954bceb04d09.jpg
END:VEVENT
BEGIN:VEVENT
DTSTART;TZID=Europe/Paris:20250831T100000
DTEND;TZID=Europe/Paris:20250831T130000
DTSTAMP:20260423T000856
CREATED:20250824T143548Z
LAST-MODIFIED:20250824T143548Z
UID:10000041-1756634400-1756645200@www.alessiacanducci.it
SUMMARY:Narrazioni e letture alla FESTA BIMBI A BORDO- GUSPINI
DESCRIPTION:DOMENICA 31 agosto \nOre 10.00-10.45\nSPAZIO 11 PIAZZA SA MITZA DI S.MARIA (DA 6 ANNI)\nUn bosco di fiabe\nLetture e narrazioni a cura di Alessia Canducci \nOre 11.15-12.45\nSPAZIO 3 CANTINA CASE CORTE (ADULTI/FORMAZIONE)\nEco-fiction per il futuro: rinascita e speranza nella letteratura per l’infanzia e l’adolescenza \nIncontro con Dalila Forni\nLetture a cura di Alessia Canducci
URL:https://www.alessiacanducci.it/evento/spettacoli-narrazioni-e-letture-a-tema-ecologia-alberi-e-foglie-limmaginario-della-natura-nel-divenire-della-vita/
ATTACH;FMTTYPE=image/jpeg:https://www.alessiacanducci.it/wp-content/uploads/2025/08/IMG_6425.jpg
END:VEVENT
BEGIN:VEVENT
DTSTART;TZID=Europe/Paris:20250830T100000
DTEND;TZID=Europe/Paris:20250830T203000
DTSTAMP:20260423T000856
CREATED:20250824T143007Z
LAST-MODIFIED:20250824T143133Z
UID:10000040-1756548000-1756585800@www.alessiacanducci.it
SUMMARY:Spettacoli\, narrazioni e letture alla FESTA BIMBI A BORDO- GUSPINI  
DESCRIPTION:SABATO 30 AGOSTO\nSPAZIO 11 PIAZZA SA MITZA DI S.MARIA \nOre 10.00-10.45 (da 6 anni) \nUn bosco di fiabe Letture e narrazioni a cura di Alessia Canducci \nSPAZIO 4 SALONE CASE A CORTE \nOre 16.00-17.00 (da 6 anni) \nVoci dal bosco stregato Letture e narrazioni a cura di Alessia Canducci \nSPAZIO O NUOVA PIAZZETTA CASA FANARI \nOre 19.30-20.30 (da 4 anni) \nPiedi nudi naso all’aria Letture e narrazioni a cura di Alessia Canducci
URL:https://www.alessiacanducci.it/evento/spettacoli-narrazioni-e-letture-alla-festa-bimbi-a-bordo-guspini/
LOCATION:Guspini\, Guspini\, Italy
ATTACH;FMTTYPE=image/jpeg:https://www.alessiacanducci.it/wp-content/uploads/2025/08/IMG_6424.jpg
END:VEVENT
BEGIN:VEVENT
DTSTART;TZID=Europe/Paris:20250829T210000
DTEND;TZID=Europe/Paris:20250829T210000
DTSTAMP:20260423T000856
CREATED:20250824T140909Z
LAST-MODIFIED:20250824T141546Z
UID:10000039-1756501200-1756501200@www.alessiacanducci.it
SUMMARY:Stardust\, polvere di Stelle alla FESTA DELLA LETTURA BIMBI A BORDO
DESCRIPTION:VENERDì 29 AGOSTO\nSERATA INAUGURALE della Festa Bimbi a Bordo \nOre 21.30 PIAZZA XX SETTEMBRE \nSpettacolo di narrazione “Stardust” a cura di Alessia Canducci con le musiche di Federico Squassabia tratto dall’omonimo libro d’artista di Hannah Arnesen pubblicato da Orecchio Acerbo
URL:https://www.alessiacanducci.it/evento/spettacoli-narrazioni-e-letture-alla-festa-della-lettura-bimbi-a-bordo/
LOCATION:Guspini\, Guspini\, Italy
ATTACH;FMTTYPE=image/jpeg:https://www.alessiacanducci.it/wp-content/uploads/2025/08/IMG_6423.jpg
END:VEVENT
BEGIN:VEVENT
DTSTART;TZID=Europe/Paris:20250827T210000
DTEND;TZID=Europe/Paris:20250827T220000
DTSTAMP:20260423T000856
CREATED:20250824T134447Z
LAST-MODIFIED:20250824T134447Z
UID:10000038-1756328400-1756332000@www.alessiacanducci.it
SUMMARY:VOCI E MUSICHE PER PERDERCI E RITROVARCI
DESCRIPTION:Voci e musiche per perderci\, spaventarci divertirci e ritrovarci\, insieme alle fiabe popolari narrazioni di Alessia Canducci \nmusiche dal vivo di  Tiziano Paganelli \ndai 4 anni
URL:https://www.alessiacanducci.it/evento/voci-e-musiche-per-perderci-e-ritrovarci/
LOCATION:Parco del MET\, Via Federico Montevecchi\, 41\, Santarcangelo di Romagna RN\, 47822
ATTACH;FMTTYPE=image/jpeg:https://www.alessiacanducci.it/wp-content/uploads/2025/08/IMG_7214.jpg
END:VEVENT
BEGIN:VEVENT
DTSTART;TZID=Europe/Paris:20250810T190000
DTEND;TZID=Europe/Paris:20250810T200000
DTSTAMP:20260423T000856
CREATED:20250725T162214Z
LAST-MODIFIED:20250725T162227Z
UID:10000037-1754852400-1754856000@www.alessiacanducci.it
SUMMARY:Guarda in su! Storie e canzoni tra le stelle
DESCRIPTION:ore 19.00 \ncon La Canducci e il Maestro Ramberti \nIn scena l’elegantissimo Maestro Ramberti con il suo pianoforte insieme a La Canducci\, instancabile narratrice\, si divertono a cantare e raccontare storie\, fiabe e Miti. Un percorso che dalla Via Lattea ci conduce alla strada battuta al tramonto dalla famosa mula di ‘per qua c’è Talamello’. \nBuon divertimento!!
URL:https://www.alessiacanducci.it/evento/guarda-in-su-storie-e-canzoni-tra-le-stelle/
LOCATION:centro storico\, Talamello\, Italy
ATTACH;FMTTYPE=image/jpeg:https://www.alessiacanducci.it/wp-content/uploads/2025/07/PHOTO-2025-07-25-16-42-45.jpg
END:VEVENT
BEGIN:VEVENT
DTSTART;TZID=Europe/Paris:20250723T210000
DTEND;TZID=Europe/Paris:20250723T220000
DTSTAMP:20260423T000856
CREATED:20250703T095036Z
LAST-MODIFIED:20250703T095036Z
UID:10000036-1753304400-1753308000@www.alessiacanducci.it
SUMMARY:Storie per ridere e trattenere il fiato
DESCRIPTION:Una scelta di fiabe della tradizione per divertirci ed avere paura \nnarrate da Alessia Canducci \ncon suoni e musiche di Tiziano Paganelli \nore 21.00 \n\n\n\nArena spettacoli Largo Fosso del Pallone – San Giovanni in Marignano
URL:https://www.alessiacanducci.it/evento/storie-per-ridere-e-trattenere-il-fiato-3/
LOCATION:Arena spettacoli Largo Fosso del Pallone\, San Giovanni in Marignano\, Italy
ATTACH;FMTTYPE=image/jpeg:https://www.alessiacanducci.it/wp-content/uploads/2024/10/ph_Margherita-Cenni-scaled.jpg
END:VEVENT
BEGIN:VEVENT
DTSTART;TZID=Europe/Paris:20250722T210000
DTEND;TZID=Europe/Paris:20250722T220000
DTSTAMP:20260423T000856
CREATED:20250702T155536Z
LAST-MODIFIED:20250703T094458Z
UID:10000035-1753218000-1753221600@www.alessiacanducci.it
SUMMARY:STORIE A DUE PASSI DAL BLU
DESCRIPTION:Letture e narrazioni per famiglie\, tutte dedicate al mare \nore 21.00 \nvia Coletti 174\, Rivabella di Rimini
URL:https://www.alessiacanducci.it/evento/storie-a-due-passi-dal-mare/
ATTACH;FMTTYPE=image/jpeg:https://www.alessiacanducci.it/wp-content/uploads/2025/07/INSERIRE_GAVOI-FESTIVAL-2022-PH-ENRICO-LAI.jpg
END:VEVENT
END:VCALENDAR